10.814179231570494
-0.36389407328220741
-0.73980836929566063
-10.332744029416585
407304.59302484861
5249295.9979890585
